BEGIN:VCALENDAR
VERSION:2.0
PRODID:-//SIT-Heroldstatt - ECPv6.15.13//NONSGML v1.0//EN
CALSCALE:GREGORIAN
METHOD:PUBLISH
X-WR-CALNAME:SIT-Heroldstatt
X-ORIGINAL-URL:https://sit-heroldstatt.de
X-WR-CALDESC:Veranstaltungen für SIT-Heroldstatt
REFRESH-INTERVAL;VALUE=DURATION:PT1H
X-Robots-Tag:noindex
X-PUBLISHED-TTL:PT1H
BEGIN:VTIMEZONE
TZID:Europe/Berlin
BEGIN:DAYLIGHT
TZOFFSETFROM:+0100
TZOFFSETTO:+0200
TZNAME:CEST
DTSTART:20250330T010000
END:DAYLIGHT
BEGIN:STANDARD
TZOFFSETFROM:+0200
TZOFFSETTO:+0100
TZNAME:CET
DTSTART:20251026T010000
END:STANDARD
BEGIN:DAYLIGHT
TZOFFSETFROM:+0100
TZOFFSETTO:+0200
TZNAME:CEST
DTSTART:20260329T010000
END:DAYLIGHT
BEGIN:STANDARD
TZOFFSETFROM:+0200
TZOFFSETTO:+0100
TZNAME:CET
DTSTART:20261025T010000
END:STANDARD
BEGIN:DAYLIGHT
TZOFFSETFROM:+0100
TZOFFSETTO:+0200
TZNAME:CEST
DTSTART:20270328T010000
END:DAYLIGHT
BEGIN:STANDARD
TZOFFSETFROM:+0200
TZOFFSETTO:+0100
TZNAME:CET
DTSTART:20271031T010000
END:STANDARD
END:VTIMEZONE
BEGIN:VEVENT
DTSTART;TZID=Europe/Berlin:20260203T140000
DTEND;TZID=Europe/Berlin:20260203T160000
DTSTAMP:20260423T104731
CREATED:20260203T225155Z
LAST-MODIFIED:20260203T225155Z
UID:2086-1770127200-1770134400@sit-heroldstatt.de
SUMMARY:Essbare Wildpflanzen
DESCRIPTION:
URL:https://sit-heroldstatt.de/termin/essbare-wildpflanzen/
LOCATION:Seniorenbegegnungsstätte\, Am Berg 16/1\, Heroldstatt\, BW\, 72535\, Deutschland
ATTACH;FMTTYPE=image/png:https://sit-heroldstatt.de/wp-content/uploads/2026/02/wildpflanzen.png
END:VEVENT
BEGIN:VEVENT
DTSTART;TZID=Europe/Berlin:20260204T140000
DTEND;TZID=Europe/Berlin:20260204T160000
DTSTAMP:20260423T104731
CREATED:20250801T073848Z
LAST-MODIFIED:20250803T131747Z
UID:2004-1770213600-1770220800@sit-heroldstatt.de
SUMMARY:Smartphone 14: Backup und Wiederfinden der wichtigen Daten vom Smartphone
DESCRIPTION:
URL:https://sit-heroldstatt.de/termin/smartphone-14-backup-und-wiederfinden-der-wichtigen-daten-vom-smartphone/
LOCATION:Seniorenbegegnungsstätte\, Am Berg 16/1\, Heroldstatt\, BW\, 72535\, Deutschland
ATTACH;FMTTYPE=image/png:https://sit-heroldstatt.de/wp-content/uploads/2025/08/bakup.png
END:VEVENT
BEGIN:VEVENT
DTSTART;TZID=Europe/Berlin:20260211T140000
DTEND;TZID=Europe/Berlin:20260211T160000
DTSTAMP:20260423T104731
CREATED:20250801T073946Z
LAST-MODIFIED:20250803T131652Z
UID:2006-1770818400-1770825600@sit-heroldstatt.de
SUMMARY:Café und Landwirtschaft in früheren Zeiten
DESCRIPTION:
URL:https://sit-heroldstatt.de/termin/cafe-und-landwirtschaft-in-frueheren-zeiten/
LOCATION:Seniorenbegegnungsstätte\, Am Berg 16/1\, Heroldstatt\, BW\, 72535\, Deutschland
ATTACH;FMTTYPE=image/png:https://sit-heroldstatt.de/wp-content/uploads/2025/08/landwirtschaft2.png
END:VEVENT
BEGIN:VEVENT
DTSTART;VALUE=DATE:20260218
DTEND;VALUE=DATE:20260220
DTSTAMP:20260423T104731
CREATED:20250801T074104Z
LAST-MODIFIED:20250803T131615Z
UID:2008-1771387200-1771473599@sit-heroldstatt.de
SUMMARY:Kein Treff - Faschingsferien
DESCRIPTION:
URL:https://sit-heroldstatt.de/termin/keint-treff-faschingsferien/
LOCATION:BW
ATTACH;FMTTYPE=image/png:https://sit-heroldstatt.de/wp-content/uploads/2025/08/fasching.png
END:VEVENT
BEGIN:VEVENT
DTSTART;TZID=Europe/Berlin:20260225T140000
DTEND;TZID=Europe/Berlin:20260225T160000
DTSTAMP:20260423T104731
CREATED:20260203T222851Z
LAST-MODIFIED:20260216T142111Z
UID:2074-1772028000-1772035200@sit-heroldstatt.de
SUMMARY:Passwörter verwalten mit KeePass
DESCRIPTION:Egal ob Online-Banking\, Shopping oder Social Media: Überall brauchen wir Passwörter. Aber wer kann sich schon 50 verschiedene\, komplexe Zeichenfolgen merken? Die Folge: Wir nutzen oft das gleiche Passwort für alles – ein riesiges Sicherheitsrisiko. \nIn unserem Vortrag stellen wir KeePassXC vor\, den Klassiker unter den Passwortmanagern. Erfahren Sie\, wie man sein digitales Leben absichert\, ohne jemals wieder ein Passwort zu vergessen. \nFolgende Themen werden wir vorstellen:\n– Warum ein Passwortmanager? Die Gefahren von „Passwort-Recycling“.\n– Was ist KeePass? Ein Blick auf die Open-Source-Lösung (kostenlos & lokal).\n– Live-Demo: So installiert und nutzt man KeePass im Alltag.\n– Master-Passwort: Die eine Regel\, die man kennen musst.\n– Synchronisation: Wie du deine Passwörter sicher auf PC und Smartphone nutzt.
URL:https://sit-heroldstatt.de/termin/passwoerter-verwalten-mit-keepass/
LOCATION:Seniorenbegegnungsstätte\, Am Berg 16/1\, Heroldstatt\, BW\, 72535\, Deutschland
ATTACH;FMTTYPE=image/png:https://sit-heroldstatt.de/wp-content/uploads/2026/02/KeePass.png
END:VEVENT
END:VCALENDAR