BEGIN:VCALENDAR
VERSION:2.0
PRODID:-//SIT-Heroldstatt - ECPv6.15.13//NONSGML v1.0//EN
CALSCALE:GREGORIAN
METHOD:PUBLISH
X-WR-CALNAME:SIT-Heroldstatt
X-ORIGINAL-URL:https://sit-heroldstatt.de
X-WR-CALDESC:Veranstaltungen für SIT-Heroldstatt
REFRESH-INTERVAL;VALUE=DURATION:PT1H
X-Robots-Tag:noindex
X-PUBLISHED-TTL:PT1H
BEGIN:VTIMEZONE
TZID:Europe/Berlin
BEGIN:DAYLIGHT
TZOFFSETFROM:+0100
TZOFFSETTO:+0200
TZNAME:CEST
DTSTART:20250330T010000
END:DAYLIGHT
BEGIN:STANDARD
TZOFFSETFROM:+0200
TZOFFSETTO:+0100
TZNAME:CET
DTSTART:20251026T010000
END:STANDARD
BEGIN:DAYLIGHT
TZOFFSETFROM:+0100
TZOFFSETTO:+0200
TZNAME:CEST
DTSTART:20260329T010000
END:DAYLIGHT
BEGIN:STANDARD
TZOFFSETFROM:+0200
TZOFFSETTO:+0100
TZNAME:CET
DTSTART:20261025T010000
END:STANDARD
BEGIN:DAYLIGHT
TZOFFSETFROM:+0100
TZOFFSETTO:+0200
TZNAME:CEST
DTSTART:20270328T010000
END:DAYLIGHT
BEGIN:STANDARD
TZOFFSETFROM:+0200
TZOFFSETTO:+0100
TZNAME:CET
DTSTART:20271031T010000
END:STANDARD
END:VTIMEZONE
BEGIN:VEVENT
DTSTART;TZID=Europe/Berlin:20260107T140000
DTEND;TZID=Europe/Berlin:20260107T160000
DTSTAMP:20260423T135512
CREATED:20250801T073401Z
LAST-MODIFIED:20250803T132052Z
UID:1996-1767794400-1767801600@sit-heroldstatt.de
SUMMARY:Smartphone 11: Notizen die bleiben
DESCRIPTION:
URL:https://sit-heroldstatt.de/termin/smartphone-11-notizen-die-bleiben/
LOCATION:Seniorenbegegnungsstätte\, Am Berg 16/1\, Heroldstatt\, BW\, 72535\, Deutschland
ATTACH;FMTTYPE=image/png:https://sit-heroldstatt.de/wp-content/uploads/2025/08/lektion-11.png
END:VEVENT
BEGIN:VEVENT
DTSTART;TZID=Europe/Berlin:20260114T140000
DTEND;TZID=Europe/Berlin:20260114T160000
DTSTAMP:20260423T135512
CREATED:20250801T073519Z
LAST-MODIFIED:20250803T132017Z
UID:1998-1768399200-1768406400@sit-heroldstatt.de
SUMMARY:Café und Historisches - Marktplatz Laichingen
DESCRIPTION:
URL:https://sit-heroldstatt.de/termin/historisches-marktplatz-laichingen/
LOCATION:Seniorenbegegnungsstätte\, Am Berg 16/1\, Heroldstatt\, BW\, 72535\, Deutschland
ATTACH;FMTTYPE=image/png:https://sit-heroldstatt.de/wp-content/uploads/2025/08/marktplatz.png
END:VEVENT
BEGIN:VEVENT
DTSTART;TZID=Europe/Berlin:20260121T080000
DTEND;TZID=Europe/Berlin:20260121T170000
DTSTAMP:20260423T135512
CREATED:20250801T073635Z
LAST-MODIFIED:20250803T131931Z
UID:2000-1768982400-1769014800@sit-heroldstatt.de
SUMMARY:Smartphone 12: Texte in Bildern erfassen (auch Sütterlinschrift)
DESCRIPTION:
URL:https://sit-heroldstatt.de/termin/smartphone-12-texte-in-bildern-erfassen-auch-suetterlinschrift/
LOCATION:Seniorenbegegnungsstätte\, Am Berg 16/1\, Heroldstatt\, BW\, 72535\, Deutschland
ATTACH;FMTTYPE=image/png:https://sit-heroldstatt.de/wp-content/uploads/2025/08/suetterlin.png
END:VEVENT
BEGIN:VEVENT
DTSTART;TZID=Europe/Berlin:20260128T080000
DTEND;TZID=Europe/Berlin:20260128T170000
DTSTAMP:20260423T135512
CREATED:20250801T073721Z
LAST-MODIFIED:20250803T131850Z
UID:2002-1769587200-1769619600@sit-heroldstatt.de
SUMMARY:Smartphone 13: Passwörter speichern
DESCRIPTION:
URL:https://sit-heroldstatt.de/termin/smartphone-13-passwoerter-speichern/
LOCATION:Seniorenbegegnungsstätte\, Am Berg 16/1\, Heroldstatt\, BW\, 72535\, Deutschland
ATTACH;FMTTYPE=image/png:https://sit-heroldstatt.de/wp-content/uploads/2025/08/passwort.png
END:VEVENT
END:VCALENDAR