BEGIN:VCALENDAR
VERSION:2.0
PRODID:-//SIT-Heroldstatt - ECPv6.15.13//NONSGML v1.0//EN
CALSCALE:GREGORIAN
METHOD:PUBLISH
X-ORIGINAL-URL:https://sit-heroldstatt.de
X-WR-CALDESC:Veranstaltungen für SIT-Heroldstatt
REFRESH-INTERVAL;VALUE=DURATION:PT1H
X-Robots-Tag:noindex
X-PUBLISHED-TTL:PT1H
BEGIN:VTIMEZONE
TZID:Europe/Berlin
BEGIN:DAYLIGHT
TZOFFSETFROM:+0100
TZOFFSETTO:+0200
TZNAME:CEST
DTSTART:20240331T010000
END:DAYLIGHT
BEGIN:STANDARD
TZOFFSETFROM:+0200
TZOFFSETTO:+0100
TZNAME:CET
DTSTART:20241027T010000
END:STANDARD
BEGIN:DAYLIGHT
TZOFFSETFROM:+0100
TZOFFSETTO:+0200
TZNAME:CEST
DTSTART:20250330T010000
END:DAYLIGHT
BEGIN:STANDARD
TZOFFSETFROM:+0200
TZOFFSETTO:+0100
TZNAME:CET
DTSTART:20251026T010000
END:STANDARD
BEGIN:DAYLIGHT
TZOFFSETFROM:+0100
TZOFFSETTO:+0200
TZNAME:CEST
DTSTART:20260329T010000
END:DAYLIGHT
BEGIN:STANDARD
TZOFFSETFROM:+0200
TZOFFSETTO:+0100
TZNAME:CET
DTSTART:20261025T010000
END:STANDARD
END:VTIMEZONE
BEGIN:VEVENT
DTSTART;TZID=Europe/Berlin:20251203T140000
DTEND;TZID=Europe/Berlin:20251203T160000
DTSTAMP:20260423T135948
CREATED:20250801T072726Z
LAST-MODIFIED:20251120T230810Z
UID:1990-1764770400-1764777600@sit-heroldstatt.de
SUMMARY:Smartphone 9: Google Maps
DESCRIPTION:
URL:https://sit-heroldstatt.de/termin/smartphone-9-google-maps/
LOCATION:Seniorenbegegnungsstätte\, Am Berg 16/1\, Heroldstatt\, BW\, 72535\, Deutschland
ATTACH;FMTTYPE=image/png:https://sit-heroldstatt.de/wp-content/uploads/2025/08/lektion9-google-maps.png
END:VEVENT
BEGIN:VEVENT
DTSTART;TZID=Europe/Berlin:20251210T140000
DTEND;TZID=Europe/Berlin:20251210T160000
DTSTAMP:20260423T135948
CREATED:20250801T072906Z
LAST-MODIFIED:20251120T230843Z
UID:1992-1765375200-1765382400@sit-heroldstatt.de
SUMMARY:Smartphone 10: Tiere\, Pflanzen\, Gebäude und andere Dinge erkennen
DESCRIPTION:
URL:https://sit-heroldstatt.de/termin/smartphone-10-tiere-pflanzen-gebaeude-und-andere-dinge-erkennen/
LOCATION:Seniorenbegegnungsstätte\, Am Berg 16/1\, Heroldstatt\, BW\, 72535\, Deutschland
ATTACH;FMTTYPE=image/png:https://sit-heroldstatt.de/wp-content/uploads/2025/08/lektion-10-tiere-und-pflanzen.png
END:VEVENT
BEGIN:VEVENT
DTSTART;TZID=Europe/Berlin:20251217T140000
DTEND;TZID=Europe/Berlin:20251217T160000
DTSTAMP:20260423T135948
CREATED:20250801T085502Z
LAST-MODIFIED:20251120T231008Z
UID:2014-1765980000-1765987200@sit-heroldstatt.de
SUMMARY:Ausflug nach Stuttgart auf den Weihnachtsmarkt und Christmas Garden
DESCRIPTION:
URL:https://sit-heroldstatt.de/termin/cafe-und-weihnachtskarte-gestalten/
LOCATION:Seniorenbegegnungsstätte\, Am Berg 16/1\, Heroldstatt\, BW\, 72535\, Deutschland
ATTACH;FMTTYPE=image/png:https://sit-heroldstatt.de/wp-content/uploads/2025/08/weihnachtskarte.png
END:VEVENT
END:VCALENDAR